BEGIN:VCALENDAR
METHOD:PUBLISH
PRODID:-//3905@www.region-coburg.tv//NONSGML iCalcreator 2.4.3//
VERSION:2.0
BEGIN:VEVENT
UID:3905-20170209103000-20170209000000@www.region-coburg.tv
DTSTAMP:20260422T084803Z
CONTACT:09561 / 898989
CREATED:20170101T110600Z
DESCRIPTION:AntigoneTragödie von Sophokles Worin die Kraft des Theaters l
 iegt? In ebenso klaren wie starken Bildern. Oder wie würden Sie das Dilem
 ma Antigones einstufen? Sie darf ihren Bruder nicht begraben. Das hat die 
 Staatsführung verboten. Und da steht sie nun ...Das Schauspiel „Antigon
 e' gehört zum Menschheits-Kulturerbe und ist aktueller denn je. Schließl
 ich ist seine Heldin Antigone eine Wutbürgerin\, die nicht egoistisch\, w
 ohl aber auf der Basis einer zeitlosen Menschenwürde opponiert. Sich dies
 em Konflikt zu stellen\, bedeutet sich die Grundfragen unseres Zusammenleb
 ens zu stellen. Und das ist immer ein Gewinn.VideoLandestheater Coburg\, P
 remiere am 14. Januar 2017 - Tickets: 09561 / 898989
DTEND:20170209T000000
DTSTART:20170209T103000
LAST-MODIFIED:20170101T110600Z
LOCATION:Landestheater\, Großes Haus
SUMMARY:Antigone
X-IMAGE:http://www.region-coburg.tv/images/medium/antigone-vh-ce069cad.jpg
END:VEVENT
END:VCALENDAR
