BEGIN:VCALENDAR
METHOD:PUBLISH
PRODID:-//3904@www.region-coburg.tv//NONSGML iCalcreator 2.4.3//
VERSION:2.0
BEGIN:VEVENT
UID:3904-20170108110000-20170108000000@www.region-coburg.tv
DTSTAMP:20260422T014322Z
CONTACT:Eintritt frei!
CREATED:20170101T105500Z
DESCRIPTION:AntigoneTragödie von SophoklesLandestheater Coburg\, Matinée 
 zur Premiere am 14. Januar 2017 - Tickets: Eintritt frei!
DTEND:20170108T000000
DTSTART:20170108T110000
LAST-MODIFIED:20170101T105500Z
LOCATION:Theater in der Reithalle
SUMMARY:Matinée
X-IMAGE:http://www.region-coburg.tv/images/medium/ltc-7b7cb14f.jpg
END:VEVENT
END:VCALENDAR
