BEGIN:VCALENDAR
METHOD:PUBLISH
PRODID:-//3901@www.region-coburg.tv//NONSGML iCalcreator 2.4.3//
VERSION:2.0
BEGIN:VEVENT
UID:3901-20170112140000-20170112000000@www.region-coburg.tv
DTSTAMP:20260422T014703Z
CONTACT:09561 / 82830
CREATED:20161223T203400Z
DESCRIPTION:Karfunkel-TheaterAuch an die ganz Kleinen ist gedacht. Mit „L
 öwenzahn – Der rettende Damm“ zeigt das Karfunkel-Figurentheater eine
  spannende Episode aus der bekannten ZDF-Fernsehserie 'Löwenzahn'. Die In
 szenierung mit markanten Figuren und handgemalten Kulissen zum Thema Natur
 schutz ist am Donnerstag\, den 12. Januar im Kongresshaus zu sehen. - Tick
 ets: 09561 / 82830
DTEND:20170112T000000
DTSTART:20170112T140000
LAST-MODIFIED:20161223T203400Z
LOCATION:Kongresshaus Rosengarten
SUMMARY:Löwenzahn - Der rettende Damm
X-IMAGE:http://www.region-coburg.tv/images/medium/karfunkel-vh-31a85c23.jpg
END:VEVENT
END:VCALENDAR
