BEGIN:VCALENDAR
METHOD:PUBLISH
PRODID:-//3889@www.region-coburg.tv//NONSGML iCalcreator 2.4.3//
VERSION:2.0
BEGIN:VEVENT
UID:3889-20161220160000-20161220000000@www.region-coburg.tv
DTSTAMP:20260421T184250Z
CONTACT:09561 / 82830
CREATED:20161214T195500Z
DESCRIPTION:Theater LiberiSpÃ¤testens seit der Walt-Disney-Verfilmung des w
 eltberÃ¼hmten Kinderbuch-Klassikers â€žDas Dschungelbuchâ€œ eroberten Mogl
 i und seine Freunde die Herzen von GroÃŸ und Klein. Eine Adaption der span
 nenden Geschichte bringt das â€žTheater Liberiâ€œ als Musical-Abenteuer fÃ
 ¼r die ganze Familie auf die BÃ¼hne. â€žDschungelbuch â€“ Das Musicalâ€œ i
 st am Dienstag\, den 20. Dezember im Kongresshaus Rosengarten zu sehen. - 
 Tickets: 09561 / 82830
DTEND:20161220T000000
DTSTART:20161220T160000
LAST-MODIFIED:20161214T195500Z
LOCATION:Kongresshaus Rosengarten
SUMMARY:Dschungelbuch - Das Musical
X-IMAGE:http://www.region-coburg.tv/images/medium/dschungelbuch-vh-17ba5bd3
 .jpg
END:VEVENT
END:VCALENDAR
