BEGIN:VCALENDAR
METHOD:PUBLISH
PRODID:-//3886@www.region-coburg.tv//NONSGML iCalcreator 2.4.3//
VERSION:2.0
BEGIN:VEVENT
UID:3886-20161215200000-20161215000000@www.region-coburg.tv
DTSTAMP:20260421T165118Z
CONTACT:09561 / 8531503
CREATED:20161205T195600Z
DESCRIPTION:WeihnachtsvarietéUnd auch auf diese Art kann das Publikum dem 
 Fest entgegenfiebern: das Kleinkunst-Theater „Zauberwelt“ präsentiert
  das traditionelle Weihnachtsvarieté 'Zimt & Zauber' mit neuem Programm -
  internationale Künstler\, Artistik\, Musik\, Zauberkunst\, Comedy und vi
 ele Überraschungen. Die zauberhafte und weihnachtliche Varietéshow ist v
 om 15. bis zum 18. Dezember im Coburger Pfarrzentrum St. Augustin zu erleb
 en. - Tickets: 09561 / 8531503
DTEND:20161215T000000
DTSTART:20161215T200000
LAST-MODIFIED:20161205T195600Z
LOCATION:Pfarrzentrum St. Augustin
SUMMARY:Zimt & Zauber
X-IMAGE:http://www.region-coburg.tv/images/medium/zimt-zauber-vh-0a104c04.j
 pg
END:VEVENT
END:VCALENDAR
