BEGIN:VCALENDAR
METHOD:PUBLISH
PRODID:-//3881@www.region-coburg.tv//NONSGML iCalcreator 2.4.3//
VERSION:2.0
BEGIN:VEVENT
UID:3881-20161231193000-20161231000000@www.region-coburg.tv
DTSTAMP:20260422T221238Z
CONTACT:09561 / 898989
CREATED:20161125T200500Z
DESCRIPTION:Musical von Cole PorterEs wird gesungen und gesteppt\, dass es 
 nur so eine Freude ist. Durch Cole Porters Musical â€žAnything Goes' aus d
 em Jahre 1934 weht mehr als ein Hauch Broadway â€“ es ist ein veritabler M
 usical-Sturm! SchlieÃŸlich befinden wir uns auf dem Transatlantik-Liner â€
 žS. S. America' â€“ und da ist erfahrungsgemÃ¤ÃŸ die HÃ¶lle los.VideoLande
 stheater Coburg\, Premiere am 17. Dezember 2016 - Tickets: 09561 / 898989
DTEND:20161231T000000
DTSTART:20161231T193000
LAST-MODIFIED:20161125T200500Z
LOCATION:Landestheater\, GroÃŸes Haus
SUMMARY:Anything Goes
X-IMAGE:http://www.region-coburg.tv/images/medium/anything-vh-1cd45d20.jpg
END:VEVENT
END:VCALENDAR
