BEGIN:VCALENDAR
METHOD:PUBLISH
PRODID:-//3879@www.region-coburg.tv//NONSGML iCalcreator 2.4.3//
VERSION:2.0
BEGIN:VEVENT
UID:3879-20170620180000-20170620000000@www.region-coburg.tv
DTSTAMP:20260421T191657Z
CONTACT:09561 / 898989
CREATED:20170210T175400Z
DESCRIPTION:Szenischer Liederabend mit Musik von Erich Wolfgang Korngold\; 
 von Björn ReinkeIn seinem szenischen Liederabend „Ausblick in ein schö
 nes Land' zeichnet Björn Reinke den Lebensweg Korngolds nach. Reinke ist 
 Regisseur und Korngold-Fan. Und wir alle haben einen doppelten Gewinn: Wir
  erhalten nicht nur eine unterhaltsame Geschichtsstunde\, sondern hören a
 uch zeitlos schöne Musik\, Lieder und Ausschnitte aus Korngolds Bühnenwe
 rken – wunderbar. Der „Ausblick in ein schönes Land' ist eine Phrase 
 aus Korngolds Lied „Was Du mir bist' – eines der schönsten Lieder\, d
 ie im 20. Jahrhundert für die menschliche Stimme geschrieben wurden. Wart
 en Sie's nur ab ...Landestheater Coburg\, Premiere am 11. Februar 2017 - T
 ickets: 09561 / 898989
DTEND:20170620T000000
DTSTART:20170620T180000
LAST-MODIFIED:20170210T175400Z
LOCATION:Theater in der Reithalle
SUMMARY:Ausblick in ein schönes Land
X-IMAGE:http://www.region-coburg.tv/images/medium/ausblick-vh-981e89da.jpg
END:VEVENT
END:VCALENDAR
