BEGIN:VCALENDAR
METHOD:PUBLISH
PRODID:-//3878@www.region-coburg.tv//NONSGML iCalcreator 2.4.3//
VERSION:2.0
BEGIN:VEVENT
UID:3878-20161210180000-20161210000000@www.region-coburg.tv
DTSTAMP:20260421T151050Z
CONTACT:09561 / 898989
CREATED:20161125T195000Z
DESCRIPTION:Tschick/ Bilder deiner grossen LiebeSchauspiel nach den Romanen
  von Wolfgang HerrndorfWenn beide Herrndorf-StÃ¼cke im Spielplan stehen\, 
 ist klar: Es muss ein Double feature geben! Im Dezember zeigt das Landesth
 eater Coburg nun beide StÃ¼cke an einem Abend nacheinander: erst 'Tschick'
 \, und nach einer kurzen Pause gehtÂ´s dann weiter mit 'Bilder deiner groÃ
 Ÿen Liebe'.Landestheater Coburg\, am 10. & 11. Dezember 2016 - Tickets: 09
 561 / 898989
DTEND:20161210T000000
DTSTART:20161210T180000
LAST-MODIFIED:20161125T195000Z
LOCATION:Theater in der Reithalle
SUMMARY:Double Feature
X-IMAGE:http://www.region-coburg.tv/images/medium/ltc-38abb2a9.jpg
END:VEVENT
END:VCALENDAR
