BEGIN:VCALENDAR
METHOD:PUBLISH
PRODID:-//3877@www.region-coburg.tv//NONSGML iCalcreator 2.4.3//
VERSION:2.0
BEGIN:VEVENT
UID:3877-20161206190000-20161206000000@www.region-coburg.tv
DTSTAMP:20260421T134124Z
CONTACT:Eintritt frei
CREATED:20161125T182400Z
DESCRIPTION:Anything GoesMusical von Cole PorterEs wird gesungen und gestep
 pt\, dass es nur so eine Freude ist. Durch Cole Porters Musical „Anythin
 g Goes' aus dem Jahre 1934 weht mehr als ein Hauch Broadway – es ist ein
  veritabler Musical-Sturm! Schließlich befinden wir uns auf dem Transatla
 ntik-Liner „S. S. America' – und da ist erfahrungsgemäß die Hölle l
 os.Landestheater Coburg\, Premiere am 17. Dezember 2016 - Tickets: Eintrit
 t frei
DTEND:20161206T000000
DTSTART:20161206T190000
LAST-MODIFIED:20161125T182400Z
LOCATION:Landestheater\, Großes Haus
SUMMARY:Soiree
X-IMAGE:http://www.region-coburg.tv/images/medium/ltc-7b7cb14f.jpg
END:VEVENT
END:VCALENDAR
