BEGIN:VCALENDAR
METHOD:PUBLISH
PRODID:-//3876@www.region-coburg.tv//NONSGML iCalcreator 2.4.3//
VERSION:2.0
BEGIN:VEVENT
UID:3876-20161204200000-20161204000000@www.region-coburg.tv
DTSTAMP:20260421T134439Z
CONTACT:09561 / 898989
CREATED:20161125T181600Z
DESCRIPTION:Schauspiel von Elfriede JelinekWie bringt man ein in einem Rede
 fluss geschriebenes\, 120 Seiten umfassendes Theaterstück auf die Bühne?
  Ein Theaterstück\, das aus dem bloßen Text besteht\, ohne Rollenzuweisu
 ng\, szenische Einteilung oder gar einen Handlungsfaden?Man kreiert eine A
 rt Laborsituation und lässt die Schauspieler in einer begehbaren Rauminst
 allation auf diese Weise den (Wahrheits-)Gehalt und die Bezugspunkte von E
 lfriede Jelineks vielstimmigem Wutchor erforschen …VideoLandestheater Co
 burg\, Premiere am 3. Dezember 2016 - Tickets: 09561 / 898989
DTEND:20161204T000000
DTSTART:20161204T200000
LAST-MODIFIED:20161125T181600Z
LOCATION:Theater in der Reithalle
SUMMARY:Wut
X-IMAGE:http://www.region-coburg.tv/images/medium/wut-vh-1540e1b3.jpg
END:VEVENT
END:VCALENDAR
