BEGIN:VCALENDAR
METHOD:PUBLISH
PRODID:-//3874@www.region-coburg.tv//NONSGML iCalcreator 2.4.3//
VERSION:2.0
BEGIN:VEVENT
UID:3874-20161201190000-20161201000000@www.region-coburg.tv
DTSTAMP:20260420T120322Z
CONTACT: 09561 / 891420
CREATED:20161125T180500Z
DESCRIPTION:Mörderisch-leckere WeihnachtenGleich vier Autorinnen bringen a
 m Donnerstag\, den 01. Dezember ziemlich viel kriminelle Energie in die be
 sinnliche Vorweihnachtszeit. Friederike Schmöe\, Isabel Morf\, Jennifer W
 ind und Ella Danz servieren in der Coburger Stadtbücherei mörderisch-lec
 kere Weihnachten aus ihrem Krimiband 'Von Zimtsternen und Zimtzicken'. - T
 ickets:  09561 / 891420
DTEND:20161201T000000
DTSTART:20161201T190000
LAST-MODIFIED:20161125T180500Z
LOCATION:Coburg\, Stadtbücherei
SUMMARY:Von Zimtsternen und Zimtzicken
X-IMAGE:http://www.region-coburg.tv/images/medium/zimtsterne-vh-60ac03a9.jp
 g
END:VEVENT
END:VCALENDAR
