BEGIN:VCALENDAR
METHOD:PUBLISH
PRODID:-//3862@www.region-coburg.tv//NONSGML iCalcreator 2.4.3//
VERSION:2.0
BEGIN:VEVENT
UID:3862-20170125201500-20170125000000@www.region-coburg.tv
DTSTAMP:20260420T152247Z
CONTACT:09561 / 239051
CREATED:20161104T205600Z
DESCRIPTION:DokumentationDiese humorvolle Dokumentation von Reinhard Günzl
 er kreist um Sinn und Unsinn unserer Wegwerfgesellschaft: Weshalb gehen Ge
 brauchsgegenstände heute so schnell kaputt? Existieren Alternativen? Welc
 her ökonomische Sinn steckt dahinter? Welche Folgen ergeben sich durch de
 n schnellen Wechsel zahlloser Produkte in unseren Haushalten? Was sagt ein
  solcher vergleichsweise emotionsloser Umgang mit Geräten usw. über ihre
  Besitzer aus – und was über unsere Kultur?VHS-Film der Woche | Deutsch
 land 2016 - Tickets: 09561 / 239051
DTEND:20170125T000000
DTSTART:20170125T201500
LAST-MODIFIED:20161104T205600Z
LOCATION:Coburg\, Kino Utopolis
SUMMARY:Kommen Rührgeräte in den Himmel?
X-IMAGE:http://www.region-coburg.tv/images/medium/vhs-film-1276db0f.jpg
END:VEVENT
END:VCALENDAR
