BEGIN:VCALENDAR
METHOD:PUBLISH
PRODID:-//3861@www.region-coburg.tv//NONSGML iCalcreator 2.4.3//
VERSION:2.0
BEGIN:VEVENT
UID:3861-20170118201500-20170118000000@www.region-coburg.tv
DTSTAMP:20260420T133148Z
CONTACT:09561 / 239051
CREATED:20161104T205400Z
DESCRIPTION:Die Inderinnen Rani\, Lajjo\, Bijli und Janaki leiden unter den
  Regeln und Traditionen der sie einengenden provinziellen Männerwelt. Tro
 tz sehr unterschiedlicher Charaktere\, sozialer Hintergründe und Wünsche
  beginnen sie ihre ganz persönliche Revolte für ein gutes Leben als selb
 stbestimmte und starke Frauen …VHS-Film der Woche | Indien 2016 - Ticket
 s: 09561 / 239051
DTEND:20170118T000000
DTSTART:20170118T201500
LAST-MODIFIED:20161104T205400Z
LOCATION:Coburg\, Kino Utopolis
SUMMARY:Die Zeit der Frauen
X-IMAGE:http://www.region-coburg.tv/images/medium/vhs-film-1276db0f.jpg
END:VEVENT
END:VCALENDAR
