BEGIN:VCALENDAR
METHOD:PUBLISH
PRODID:-//3860@www.region-coburg.tv//NONSGML iCalcreator 2.4.3//
VERSION:2.0
BEGIN:VEVENT
UID:3860-20170110201500-20170110000000@www.region-coburg.tv
DTSTAMP:20260420T134038Z
CONTACT:09561 / 239051
CREATED:20161104T205300Z
DESCRIPTION:Nach dem Tod ihres Ehemanns entfremdet sich die Witwe Julieta i
 mmer mehr von Tochter Antia\, die schließlich frustriert auszieht. Doch d
 ie Mutter will sich nicht mit dem Verlust auch noch ihrer Tochter abfinden
  und begibt sich auf eine Spurensuche auf drei ganz unterschiedlichen Eben
 en: Sie versucht den Aufenthaltsort von Antia herauszufinden und beginnt g
 leichzeitig über Wesen und Charakter der jungen Frau nachzudenken\; zulet
 zt aber muss sich Julieta noch die entscheidende Frage stellen: Wer bin ic
 h wirklich?VHS-Film der Woche | Spanien 2016 - Tickets: 09561 / 239051
DTEND:20170110T000000
DTSTART:20170110T201500
LAST-MODIFIED:20161104T205300Z
LOCATION:Coburg\, Kino Utopolis
SUMMARY:Julieta
X-IMAGE:http://www.region-coburg.tv/images/medium/vhs-film-1276db0f.jpg
END:VEVENT
END:VCALENDAR
