BEGIN:VCALENDAR
METHOD:PUBLISH
PRODID:-//3859@www.region-coburg.tv//NONSGML iCalcreator 2.4.3//
VERSION:2.0
BEGIN:VEVENT
UID:3859-20170103201500-20170103000000@www.region-coburg.tv
DTSTAMP:20260420T133745Z
CONTACT:09561 / 239051
CREATED:20161104T205100Z
DESCRIPTION:Henri Voizot wagt im Alter ein kühnes Experiment und gründet 
 in seiner Wohnung eine WG - ausgerechnet mit der Studentin Constance. Alle
 rdings hält er nichts von gleichberechtigter Koexistenz\, sondern formuli
 ert sofort einen straffen Codex für seine Mitbewohnerin\, wodurch deren L
 eben doch empfindlich eingeschränkt wird. Außerdem besitzt Constance fü
 r Henri einen entscheidenden Vorteil: Er plant\, sie als Generationendolme
 tscherin für die Steuerung seiner Familie einzusetzen …VHS-Film der Woc
 he | Frankreich 2015 - Tickets: 09561 / 239051
DTEND:20170103T000000
DTSTART:20170103T201500
LAST-MODIFIED:20161104T205100Z
LOCATION:Coburg\, Kino Utopolis
SUMMARY:Frühstück bei Monsieur Henri
X-IMAGE:http://www.region-coburg.tv/images/medium/vhs-film-1276db0f.jpg
END:VEVENT
END:VCALENDAR
