BEGIN:VCALENDAR
METHOD:PUBLISH
PRODID:-//3858@www.region-coburg.tv//NONSGML iCalcreator 2.4.3//
VERSION:2.0
BEGIN:VEVENT
UID:3858-20161228201500-20161228000000@www.region-coburg.tv
DTSTAMP:20260420T133928Z
CONTACT:09561 / 239051
CREATED:20161104T204900Z
DESCRIPTION:Die Welt des Dorfarztes Dr. Jean-Pierre Werner wankt bedenklich
 \, als er selber schwer erkrankt: Seine Vertretung ĂĽbernimmt eine junge Ă
 „rztin - Dr. Nathalie Delezia\, die die Routinen des erfahrenen Mediziners
  grĂĽndlich durcheinander wirbelt. Gleichzeitig empfindet Jean-Pierre die 
 Kollegin als GefĂ¤hrdung seiner liebgewonnenen Position und lehnt daher ei
 ne konstruktive UnterstĂĽtzung Nathalies ab. Die Medizinerin sieht sich da
 her bald in einer echten Zwangslage â€“ zwischen beruflicher Verantwortung
 \, widerspenstigen DĂ¶rflern\, ihrem widerwilligen Kollegen und einer ihr 
 fremden Umgebung â€¦VHS-Film der Woche | Frankreich 2016 - Tickets: 09561 
 / 239051
DTEND:20161228T000000
DTSTART:20161228T201500
LAST-MODIFIED:20161104T204900Z
LOCATION:Coburg\, Kino Utopolis
SUMMARY:Der Landarzt von Chaussy
X-IMAGE:http://www.region-coburg.tv/images/medium/vhs-film-1276db0f.jpg
END:VEVENT
END:VCALENDAR
