BEGIN:VCALENDAR
METHOD:PUBLISH
PRODID:-//3857@www.region-coburg.tv//NONSGML iCalcreator 2.4.3//
VERSION:2.0
BEGIN:VEVENT
UID:3857-20161221201500-20161221000000@www.region-coburg.tv
DTSTAMP:20260420T133830Z
CONTACT:09561 / 239051
CREATED:20161104T204800Z
DESCRIPTION:BiopicKunst und Freundschaft: Zwischen diesen beiden Polen entw
 ickelt sich der Historienfilm über die Malerlegende Paul Cézanne und den
  großen Schriftsteller Emile Zola. Die Jugendfreundschaft beider Künstle
 r beruht auf verwandten Neigungen wie z.B. ihrer Leidenschaft für die sch
 önen Künste\, interessante Frauen und der Sehnsucht nach persönlicher S
 elbstverwirklichung. Doch als beide Männer zu Berühmtheiten aufsteigen\,
  drängen ihre Charaktere allmählich doch in unterschiedliche Richtungen\
 , was schließlich auch die bewährte Freundschaft der Künstler bedroht.V
 HS-Film der Woche | Frankreich 2016 - Tickets: 09561 / 239051
DTEND:20161221T000000
DTSTART:20161221T201500
LAST-MODIFIED:20161104T204800Z
LOCATION:Coburg\, Kino Utopolis
SUMMARY:Meine Zeit mit Cézanne
X-IMAGE:http://www.region-coburg.tv/images/medium/vhs-film-1276db0f.jpg
END:VEVENT
END:VCALENDAR
