BEGIN:VCALENDAR
METHOD:PUBLISH
PRODID:-//3856@www.region-coburg.tv//NONSGML iCalcreator 2.4.3//
VERSION:2.0
BEGIN:VEVENT
UID:3856-20161214201500-20161214000000@www.region-coburg.tv
DTSTAMP:20260420T133702Z
CONTACT:09561 / 239051
CREATED:20161104T204500Z
DESCRIPTION:Michel treibt durch sein ritualisiertes Arbeits- und Privatlebe
 n als Grafikdesigner und Familienvater\, das ihn allerdings zunehmend anö
 det. Mit der Idee vom Kajakfahren verbindet er daher seine Sehnsucht nach 
 Freiheit und dem Ausbruch aus der routinierten Alltagswelt. Schließlich w
 agt Michel in seinem selbstgebauten Kajak eine Flusstour\, auf der ihm tat
 sächlich ein schicksalhaftes und völlig unerwartetes Abenteuer begegnet.
 VHS-Film der Woche | Frankreich 2014 - Tickets: 09561 / 239051
DTEND:20161214T000000
DTSTART:20161214T201500
LAST-MODIFIED:20161104T204500Z
LOCATION:Coburg\, Kino Utopolis
SUMMARY:Nur Fliegen ist schöner
X-IMAGE:http://www.region-coburg.tv/images/medium/vhs-film-1276db0f.jpg
END:VEVENT
END:VCALENDAR
