BEGIN:VCALENDAR
METHOD:PUBLISH
PRODID:-//3855@www.region-coburg.tv//NONSGML iCalcreator 2.4.3//
VERSION:2.0
BEGIN:VEVENT
UID:3855-20161206201500-20161206000000@www.region-coburg.tv
DTSTAMP:20260420T120450Z
CONTACT:09561 / 239051
CREATED:20161104T204400Z
DESCRIPTION:Zum Teil in schwarz-weißNoch im Jahr 1919 bedrücken Anna die 
 langen Schatten des Ersten Weltkriegs\, denn sie trauert verzweifelt um Fr
 antz – ihren in Frankreich gefallenen Verlobten: Sie lebt weiter in Qued
 linburg bei den Eltern des Gefallenen und verschließt sich jeder neuen Be
 ziehung. Dann tritt plötzlich Adrien in Annas Leben\, der behauptet Frant
 z im Paris der Vorkriegszeit kennengelernt zu haben. Allmählich gelingt e
 s dem jungen Franzosen ihren Panzer aus Trauer und Verbitterung aufzuweich
 en\, bis Adrien sein tragisches Geheimnis offenbart ...VHS-Film der Woche 
 | Deutschland\, Frankreich 2016 - Tickets: 09561 / 239051
DTEND:20161206T000000
DTSTART:20161206T201500
LAST-MODIFIED:20161104T204400Z
LOCATION:Coburg\, Kino Utopolis
SUMMARY:Frantz
X-IMAGE:http://www.region-coburg.tv/images/medium/vhs-film-1276db0f.jpg
END:VEVENT
END:VCALENDAR
