BEGIN:VCALENDAR
METHOD:PUBLISH
PRODID:-//3854@www.region-coburg.tv//NONSGML iCalcreator 2.4.3//
VERSION:2.0
BEGIN:VEVENT
UID:3854-20161130201500-20161130000000@www.region-coburg.tv
DTSTAMP:20260420T120317Z
CONTACT:09561 / 239051
CREATED:20161104T204200Z
DESCRIPTION:Der OlivenbaumDer Handlungsstrang dieser Tragikomödie rankt si
 ch um die Bedeutung von Symbolen. So findet die komplizierte spanische Bau
 erntochter Alma eine sehr spezielle Erklärung für zahlreiche Missgeschic
 ke ihrer Familie: Ihr Vater hat tragischerweise einen 2.000 Jahre alten Ol
 ivenbaum verkauft\, mit dem die junge Frau besonders schöne Kindheitserin
 nerungen verbindet. Auch ihr Großvater ist über die Verschacherung des F
 amilienbaumes so verbittert\, dass er buchstäblich verstummt. Alma beschl
 ießt daher\, die Lieblingspflanze ihres Großvaters heimzuholen…VHS-Fil
 m der Woche | Deutschland\, Spanien 2015 - Tickets: 09561 / 239051
DTEND:20161130T000000
DTSTART:20161130T201500
LAST-MODIFIED:20161104T204200Z
LOCATION:Coburg\, Kino Utopolis
SUMMARY:El Olivo
X-IMAGE:http://www.region-coburg.tv/images/medium/vhs-film-1276db0f.jpg
END:VEVENT
END:VCALENDAR
