BEGIN:VCALENDAR
METHOD:PUBLISH
PRODID:-//3853@www.region-coburg.tv//NONSGML iCalcreator 2.4.3//
VERSION:2.0
BEGIN:VEVENT
UID:3853-20161123201500-20161123000000@www.region-coburg.tv
DTSTAMP:20260420T120637Z
CONTACT:09561 / 239051
CREATED:20161104T204000Z
DESCRIPTION:Die alternde PR-Spezialistin Eddy lässt sich leichtsinnig durc
 h ihr turbulentes Party-Leben treiben\; erst geschäftliche Misserfolge zw
 ingen sie zum Einlenken: Optimistisch plant Eddy daher\, das Star-Model Ka
 te Moss als frische finanzkräftige Kundin anzuwerben. Allerdings endet ih
 r ambitionierter Versuch mit einem peinlichen Eklat auf einem vielbeachtet
 en Society-Event. Verzweifelt wählt Eddy jetzt die Flucht als letzten Aus
 weg und reist mit ihrer Freundin Patsy nach Cannes an der Côte d'Azur …
 VHS-Film der Woche | Großbritannien\, USA 2016 - Tickets: 09561 / 239051
DTEND:20161123T000000
DTSTART:20161123T201500
LAST-MODIFIED:20161104T204000Z
LOCATION:Coburg\, Kino Utopolis
SUMMARY:Absulutely Fabulous
X-IMAGE:http://www.region-coburg.tv/images/medium/vhs-film-1276db0f.jpg
END:VEVENT
END:VCALENDAR
