BEGIN:VCALENDAR
METHOD:PUBLISH
PRODID:-//3852@www.region-coburg.tv//NONSGML iCalcreator 2.4.3//
VERSION:2.0
BEGIN:VEVENT
UID:3852-20161115201500-20161115000000@www.region-coburg.tv
DTSTAMP:20260420T115958Z
CONTACT:09561 / 239051
CREATED:20161104T203800Z
DESCRIPTION:BiopicDer US-Bürger Edward Snowden wird von der NSA als IT-Spe
 zialist beschäftigt. Durch seine Arbeit erhält er immer tiefere Einblick
 e in die Überwachungspraktiken amerikanischer Geheimdienste. Dieses Wisse
 n stürzt Snowden in einen Gewissenskonflikt zwischen der Loyalität zur U
 S-Regierung und seinem Verantwortungsgefühl. Schließlich entscheidet er 
 sich für den Verrat und flieht mit einer Fülle von Beweisen nach Hongkon
 g …VHS-Film der Woche | Großbritannien\, USA 2016 - Tickets: 09561 / 23
 9051
DTEND:20161115T000000
DTSTART:20161115T201500
LAST-MODIFIED:20161104T203800Z
LOCATION:Coburg\, Kino Utopolis
SUMMARY:Snowden
X-IMAGE:http://www.region-coburg.tv/images/medium/vhs-film-1276db0f.jpg
END:VEVENT
END:VCALENDAR
