BEGIN:VCALENDAR
METHOD:PUBLISH
PRODID:-//3844@www.region-coburg.tv//NONSGML iCalcreator 2.4.3//
VERSION:2.0
BEGIN:VEVENT
UID:3844-20161118140000-20161118000000@www.region-coburg.tv
DTSTAMP:20260421T083937Z
CONTACT:09561 / 898989
CREATED:20161030T120900Z
DESCRIPTION:Weihnachtsmärchen für die ganze FamilieHans Christian Anderse
 ns Geschichte bildet die Grundlage für das Coburger Weihnachtsmärchen di
 eser Spielzeit. Schließlich wird diese Geschichte besonders gern erzählt
 \, wenn es draußen kälter wird und man sich gern an einen Ofen oder in e
 ine Decke kuschelt\, um zu genießen\, was man an der Wärme hat. Menschli
 che Wärme schützt uns zwar nicht vor Eis und Schnee\, aber davor\, selbe
 r zu erkalten und den Blick für unseren Nächsten zu verlieren. Kay hat e
 inen Splitter des teuflischen Spiegels ins Auge bekommen\, sodass er diese
 n Blick verliert\, wäre da nicht Gerda\, die das nicht zulassen will ...V
 ideoLandestheater Coburg\, Premiere am 12. November 2016 - Tickets: 09561 
 / 898989
DTEND:20161118T000000
DTSTART:20161118T140000
LAST-MODIFIED:20161030T120900Z
LOCATION:Landestheater Coburg\, Großes Haus
SUMMARY:Die Schneekönigin
X-IMAGE:http://www.region-coburg.tv/images/medium/schneekoenigin-vh-b755650
 f.jpg
END:VEVENT
END:VCALENDAR
