BEGIN:VCALENDAR
METHOD:PUBLISH
PRODID:-//3843@www.region-coburg.tv//NONSGML iCalcreator 2.4.3//
VERSION:2.0
BEGIN:VEVENT
UID:3843-20161106110000-20161106000000@www.region-coburg.tv
DTSTAMP:20260421T045832Z
CONTACT:Eintritt frei!
CREATED:20161030T120400Z
DESCRIPTION:Die SchneeköniginWeihnachtsmärchen für die ganze FamilieLand
 estheater Coburg\, Matinée zur Premiere am 12. November 2016 - Tickets: E
 intritt frei!
DTEND:20161106T000000
DTSTART:20161106T110000
LAST-MODIFIED:20161030T120400Z
LOCATION:Theater in der Reithalle
SUMMARY:Matinée
X-IMAGE:http://www.region-coburg.tv/images/medium/ltc-7b7cb14f.jpg
END:VEVENT
END:VCALENDAR
