BEGIN:VCALENDAR
METHOD:PUBLISH
PRODID:-//3840@www.region-coburg.tv//NONSGML iCalcreator 2.4.3//
VERSION:2.0
BEGIN:VEVENT
UID:3840-20161029193000-20161029000000@www.region-coburg.tv
DTSTAMP:20260421T045606Z
CONTACT:09561 / 898989
CREATED:20161029T174900Z
DESCRIPTION:Operette von Jacques OffenbachWas darf die Satire? Diese Frage 
 stellt sich nicht erst seit Jan BÃ¶hmermann. Als in Frankreich um 1850 das
  sogenannte â€žDritte Kaiserreich' ausgerufen wurde\, glaubten nicht wenig
 e\, dass nach sechs Jahrzehnten Revolution und Konterrevolution jetzt nur 
 noch sehr viel Humor wÃ¼rde helfen kÃ¶nnen. Ludovic HalÃ©vy und Hector CrÃ
 ©mieux schrieben einem der frechsten Tonsetzer des Kontinents\, Jacques Of
 fenbach\, den Text zu â€žOrpheus in der Unterwelt'.VideoLandestheater Cobu
 rg\, Premiere am 29. Oktober 2016 - Tickets: 09561 / 898989
DTEND:20161029T000000
DTSTART:20161029T193000
LAST-MODIFIED:20161029T174900Z
LOCATION:Landestheater Coburg\, GroÃŸes Haus
SUMMARY:Orpheus in der Unterwelt
X-IMAGE:http://www.region-coburg.tv/images/medium/orpheus-vh-9ec2f90c.jpg
END:VEVENT
END:VCALENDAR
