BEGIN:VCALENDAR
METHOD:PUBLISH
PRODID:-//3837@www.region-coburg.tv//NONSGML iCalcreator 2.4.3//
VERSION:2.0
BEGIN:VEVENT
UID:3837-20161119200000-20161119000000@www.region-coburg.tv
DTSTAMP:20260421T083631Z
CONTACT:09561 / 898989
CREATED:20161023T192900Z
DESCRIPTION:Ein Gerhard-Polt-AbendSeit kurzem besetzen drei Landestheater-S
 chauspieler einen Wirtshaustisch auf der kleinen Bühne des „Münchner H
 ofbräu“. Sarah Zaharanski\, Stephan Mertl und Thomas Straus „sinnlose
 n so vor sich hin“ – typisch bayrisch\, mit reichlich Stoff aus der Fe
 der von Kabarett-Urgestein und Satiriker Gerhard Polt. Arrangiert und insz
 eniert hat den kurzweiligen Polt-Abend Schauspieldirektor Matthias Straub.
 VideoLandestheater Coburg\, Premiere am 14. Oktober 2016 - Tickets: 09561 
 / 898989
DTEND:20161119T000000
DTSTART:20161119T200000
LAST-MODIFIED:20161023T192900Z
LOCATION:Saal Münchner Hofbräu
SUMMARY:Ich sinnlose so vor mich hin ...
X-IMAGE:http://www.region-coburg.tv/images/medium/polt-vh-63f3daba.jpg
END:VEVENT
END:VCALENDAR
