BEGIN:VCALENDAR
METHOD:PUBLISH
PRODID:-//3836@www.region-coburg.tv//NONSGML iCalcreator 2.4.3//
VERSION:2.0
BEGIN:VEVENT
UID:3836-20161027200000-20161027000000@www.region-coburg.tv
DTSTAMP:20260421T031542Z
CONTACT:09561 / 8531503
CREATED:20161016T194800Z
DESCRIPTION:Zauberwelt startet durch: „Donnerwetter Varieté'Ganze 15 Jah
 re lang präsentierte die 'Zauberwelt' in Grub am Forst Kleinkunst und Var
 ieté. Ein geplanter Umzug nach Rödental scheiterte\, einige Veranstaltun
 gen folgten in Meeder. Doch nun startet die Zauberwelt mit neuen Spielstä
 tten in Coburg neu durch! Die Spielzeit startet am Donnerstag\, den 27. Ok
 tober mit dem 'Donnerwetter Varieté'. Künstler aus ganz Deutschland prä
 sentieren auf der Kleinkunst-Bühne des „Münchner Hofbräu“  eine Mi
 schung aus Zauberkunst\, Akrobatik\, Jonglage\, Comedy und Musik. - Ticket
 s: 09561 / 8531503
DTEND:20161027T000000
DTSTART:20161027T200000
LAST-MODIFIED:20161016T194800Z
LOCATION:Coburg\, Münchner Hofbräu
SUMMARY:Donnerwetter Varieté
X-IMAGE:http://www.region-coburg.tv/images/medium/zauberwelt-918e95ad.jpg
END:VEVENT
END:VCALENDAR
