BEGIN:VCALENDAR
METHOD:PUBLISH
PRODID:-//3832@www.region-coburg.tv//NONSGML iCalcreator 2.4.3//
VERSION:2.0
BEGIN:VEVENT
UID:3832-20161016200000-20161016000000@www.region-coburg.tv
DTSTAMP:20260421T011837Z
CONTACT:09561 / 898989
CREATED:20161015T092600Z
DESCRIPTION:Schauspiel nach dem unvollendeten Roman von Wolfgang Herrndorf 
 | FÃ¼r Menschen ab 12 JahrenWer â€žTschick' gemocht hat\, und Isa dort sch
 on flÃ¼chtig begegnete\, wird Isa schnell in sein Herz schlieÃŸen. Obwohl:
  EinschlieÃŸen lÃ¤sst sich Isa nicht\, denn sie ist auf dem Weg. Muss weit
 er. Immer. Ein kleiner Moment genÃ¼gt\, und sie hat die Anstalts-Tore hint
 er sich gelassen. Sie hÃ¤lt ihr Tagebuch wie einen Kompass vor sich. Er fÃ
 ¼hrt sie durch Deutschland\, ein Land der WidersprÃ¼che und SehnsÃ¼chte\, 
 ein Land der Zweifler und Denker\, der Kriegshelden und Kreisliga-Kicker. 
 Isa ist auf der Flucht\, auf der Suche\, und eigentlich geht sie an der Sp
 itze einer Bewegung\, die sich die Freiheit wÃ¼nscht.Landestheater Coburg\
 , Premiere am 15. Oktober 2016 - Tickets: 09561 / 898989
DTEND:20161016T000000
DTSTART:20161016T200000
LAST-MODIFIED:20161015T092600Z
LOCATION:Theater in der Reithalle
SUMMARY:Bilder deiner groÃŸen Liebe
X-IMAGE:http://www.region-coburg.tv/images/medium/bilder-vh-92e5f261.jpg
END:VEVENT
END:VCALENDAR
