BEGIN:VCALENDAR
METHOD:PUBLISH
PRODID:-//3825@www.region-coburg.tv//NONSGML iCalcreator 2.4.3//
VERSION:2.0
BEGIN:VEVENT
UID:3825-20161023150000-20161023000000@www.region-coburg.tv
DTSTAMP:20260421T031220Z
CONTACT:Eintritt frei
CREATED:20161001T160300Z
DESCRIPTION:Choreografien von Mark McClain\, Tara Yipp\, Alessandro Cerrudo
  und Lode Devos | Musik von Sting\, Arvo Pärt und anderenVier getanzte Ku
 rzgeschichten. Das Ballett des Landestheaters Coburg beginnt die Tanz-Sais
 on 2016/2017 mit einem Feuerwerk der Vielseitigkeit. Das verspricht schon 
 die Musik-Auswahl. Songs von Dean Martin\, Musik von Arvo Pärt und wunder
 schöne Lieder von John Dowland in der Version von Sting.VideoLandestheate
 r Coburg\, Premiere am 9. Oktober 2016 - Tickets: Eintritt frei
DTEND:20161023T000000
DTSTART:20161023T150000
LAST-MODIFIED:20161001T160300Z
LOCATION:Landestheater\, Großes Haus
SUMMARY:Short Stories
X-IMAGE:http://www.region-coburg.tv/images/medium/stories-vh-7490fbcf.jpg
END:VEVENT
END:VCALENDAR
