BEGIN:VCALENDAR
METHOD:PUBLISH
PRODID:-//3824@www.region-coburg.tv//NONSGML iCalcreator 2.4.3//
VERSION:2.0
BEGIN:VEVENT
UID:3824-20161001190000-00000000000000@www.region-coburg.tv
DTSTAMP:20260421T233305Z
CONTACT:Eintritt frei
CREATED:20161001T160000Z
DESCRIPTION:Short StoriesChoreografien von Mark McClain\, Tara Yipp\, Aless
 andro Cerrudo und Lode Devos | Musik von Sting\, Arvo Pärt und anderenLan
 destheater Coburg\, Premiere am 9. Oktober 2016 - Tickets: Eintritt frei
DTEND:20161001T200000
DTSTART:20161001T190000
LAST-MODIFIED:20161001T160000Z
LOCATION:Landestheater\, Großes Haus
SUMMARY:Soiree
X-IMAGE:http://www.region-coburg.tv/images/medium/ltc-7b7cb14f.jpg
END:VEVENT
END:VCALENDAR
