BEGIN:VCALENDAR
METHOD:PUBLISH
PRODID:-//3798@www.region-coburg.tv//NONSGML iCalcreator 2.4.3//
VERSION:2.0
BEGIN:VEVENT
UID:3798-20160917190000-20160917000000@www.region-coburg.tv
DTSTAMP:20260420T215936Z
CONTACT:Eintritt frei
CREATED:20160911T192600Z
DESCRIPTION:Die SchatzinselDas Abenteuer-Rock-Musical von Matthias StraubLa
 ndestheater Coburg\, Premiere am 25. September 2016 - Tickets: Eintritt fr
 ei
DTEND:20160917T000000
DTSTART:20160917T190000
LAST-MODIFIED:20160911T192600Z
LOCATION:Coburg\, Landestheater\, Großes Haus
SUMMARY:Soiree
X-IMAGE:http://www.region-coburg.tv/images/medium/ltc-7b7cb14f.jpg
END:VEVENT
END:VCALENDAR
