BEGIN:VCALENDAR
METHOD:PUBLISH
PRODID:-//3797@www.region-coburg.tv//NONSGML iCalcreator 2.4.3//
VERSION:2.0
BEGIN:VEVENT
UID:3797-20161104200000-20161104000000@www.region-coburg.tv
DTSTAMP:20260421T045606Z
CONTACT:09561 / 898989
CREATED:20160911T191900Z
DESCRIPTION:Monologe für zuhause von Ingrid LausundWenn der Thermomix zum 
 Heiligen Gral und die Balkonverkleidung zum neuen Westwall wird\, sind wir
  schon mittendrin – mittendrin in unser aller Alltag\, der – wenn wir 
 ehrlich sind – auch schon einmal tragikomische Züge annimmt. Ingrid Lau
 sund hat mit ihrem Text „Bin nebenan – Monologe für zuhause' wunderba
 re Verdichtungen geschaffen\, die natürlich nicht unserem Alltag entstamm
 en\, in denen wir uns aber dann und wann selbst begegnen könnten. Es geht
  um Einrichtungsversuche.Das alles ist ebenso lustig wie traurig\, nie ver
 letzend\, aber durchaus nachdenklich machend. Unsere Gesellschaft vereinze
 lt und vereinsamt – darum geht es letztlich\, auch wenn wir uns das ewig
 e Single-Ideal noch so schönreden. Apropos: Die „Monologe für zuhause'
  sind eine Fundgrube für neugierige Schauspieler. Schließlich ist auch i
 m Bühnenleben nichts so schwer wie das Alleinsein – ohne Stichwortgeber
  oder Anspielpartner. Tja. Und da stecken wir mittendrin im Problem. Viel 
 Vergnügen dabei!Landestheater Coburg\, Premiere am 24. September 2016 - T
 ickets: 09561 / 898989
DTEND:20161104T000000
DTSTART:20161104T200000
LAST-MODIFIED:20160911T191900Z
LOCATION:Theater in der Reithalle
SUMMARY:Bin nebenan
X-IMAGE:http://www.region-coburg.tv/images/medium/nebenan-vh-632b0bea.jpg
END:VEVENT
END:VCALENDAR
