BEGIN:VCALENDAR
METHOD:PUBLISH
PRODID:-//3796@www.region-coburg.tv//NONSGML iCalcreator 2.4.3//
VERSION:2.0
BEGIN:VEVENT
UID:3796-20161028193000-20161028000000@www.region-coburg.tv
DTSTAMP:20260421T031840Z
CONTACT:09561 / 898989
CREATED:20160911T190800Z
DESCRIPTION:Das Abenteuer-Rock-Musical von Matthias StraubSie tragen Augenk
 lappen\, Holzbeine und sind hochmusikalisch: Piraten von Welt wissen\, was
  sie ihren Fans schuldig sind. Und schuldig sind sie eigentlich immer irge
 ndwie. Sie spucken\, prügeln\, fluchen und suchen Schätze\, die sie auf 
 irgendeiner Flucht einmal hastig verbuddeln mussten. Robert Louis Stevenso
 n setzte den Freibeutern der Meere 1881 mit seinem Roman „Die Schatzinse
 l' eines der schönsten Denkmäler\, die der Klabautermann je gesehen hat.
 Coburgs Schauspieldirektor Matthias Straub und seine Mannschaft entern den
  Klassiker nun und hauchen ihm nicht nur eine ordentliche Rum-Fackel entge
 gen\, sondern mit viel Musik auch neues Bühnenleben ein. Glücklicherweis
 e hat sich das Piratensong-Repertoire seit 1881 ordentlich erweitert\, und
  so brummt die freche Meute nicht nur „15 Mann auf der Totenmanns-Kist''
 \, sondern auch Rock- und Popklassiker wie „Smoke on the Water' oder „
 Sympathy for the Devil'.VideoLandestheater Coburg\, Premiere am 25. Septem
 ber 2016 - Tickets: 09561 / 898989
DTEND:20161028T000000
DTSTART:20161028T193000
LAST-MODIFIED:20160911T190800Z
LOCATION:Landestheater Coburg\, Großes Haus
SUMMARY:Die Schatzinsel
X-IMAGE:http://www.region-coburg.tv/images/medium/schatzinsel-vh-806f5a95.j
 pg
END:VEVENT
END:VCALENDAR
