BEGIN:VCALENDAR
METHOD:PUBLISH
PRODID:-//3795@www.region-coburg.tv//NONSGML iCalcreator 2.4.3//
VERSION:2.0
BEGIN:VEVENT
UID:3795-20161003180000-20161003000000@www.region-coburg.tv
DTSTAMP:20260421T232801Z
CONTACT:09561 / 898989
CREATED:20160911T185900Z
DESCRIPTION:Oper von Ludwig van BeethovenAls Freiheitsoper wird „Fidelio'
  gern bezeichnet. Und unabhängig davon\, wie viel individuelles Heldentum
  und Gattenliebe erforderlich ist\, um frei zu werden oder zu bleiben\, ka
 nn das mit der gewonnenen Freiheit verbundene Glücksgefühl dank Beethove
 ns Musik auf immer im kollektiven Gedächtnis bewahrt werden. „Oh\, welc
 he Lust'\, singt da der Chor und beschert uns Gänsehaut\, den Freiheits-F
 üßetretern aber die allerschönsten Kopfschmerzen. Bravo\, Beethoven!Vid
 eoLandestheater Coburg\, Premiere am 18. September 2016 - Tickets: 09561 /
  898989
DTEND:20161003T000000
DTSTART:20161003T180000
LAST-MODIFIED:20160911T185900Z
LOCATION:Landestheater Coburg\, Großes Haus
SUMMARY:Fidelio
X-IMAGE:http://www.region-coburg.tv/images/medium/fidelio-vh-2d1b7242.jpg
END:VEVENT
END:VCALENDAR
