BEGIN:VCALENDAR
METHOD:PUBLISH
PRODID:-//3792@www.region-coburg.tv//NONSGML iCalcreator 2.4.3//
VERSION:2.0
BEGIN:VEVENT
UID:3792-20161025201500-20161025000000@www.region-coburg.tv
DTSTAMP:20260420T101755Z
CONTACT:09561 / 239051
CREATED:20160802T204500Z
DESCRIPTION:Zu „Heiter bis Tödlich“ – Suchtpräventionstage CoburgAl
 s charismatisches Ausnahmetalent brannte sich die Rock-Künstlerin Janis J
 oplin während der 60er Jahre in das Buch der Musikgeschichte – vor der 
 turbulenten Kulisse sozialer Unruhen\, des Vietnamkriegs und der US-amerik
 anischen Bürgerrechtsbewegung. Ihr exzessives Leben und der tragisch-frü
 he Tod der jungen Frau trugen dabei maßgeblich zum Mythos Janis Joplins b
 ei. VHS-Film der Woche | USA 2015 - Tickets: 09561 / 239051
DTEND:20161025T000000
DTSTART:20161025T201500
LAST-MODIFIED:20160802T204500Z
LOCATION:Coburg\, Kino Utopolis
SUMMARY:Janis: Little Girl Blue
X-IMAGE:http://www.region-coburg.tv/images/medium/vhs-film-1276db0f.jpg
END:VEVENT
END:VCALENDAR
