BEGIN:VCALENDAR
METHOD:PUBLISH
PRODID:-//3791@www.region-coburg.tv//NONSGML iCalcreator 2.4.3//
VERSION:2.0
BEGIN:VEVENT
UID:3791-20161018201500-20161018000000@www.region-coburg.tv
DTSTAMP:20260420T102046Z
CONTACT:09561 / 239051
CREATED:20160802T204200Z
DESCRIPTION:Gleich zweimal wagt der Schamane Karamakate im Dschungel des Am
 azonas die Suche nach der geheimnisvollen Heilpflanze Yakruna: Die erste F
 ahrt unternimmt er\, um den deutschen Abenteurer und Ethnologen Grünberg 
 zu retten\; auf der zweiten begleitet ihn - viele Jahre später - der Amer
 ikaner Richard Evans Schultes. Das Drama stützt sich auf die Aufzeichnung
 en der beiden Wissenschaftler\, wodurch ein intensives Bild der jüngeren 
 Vergangenheit Südamerikas gelingt – vor allem aber des Schicksals der i
 ndianischen Bevölkerung im Amazonasbecken. VHS-Film der Woche | Argentin
 ien\, Kolumbien\, Venezuela 2015 - Tickets: 09561 / 239051
DTEND:20161018T000000
DTSTART:20161018T201500
LAST-MODIFIED:20160802T204200Z
LOCATION:Coburg\, Kino Utopolis
SUMMARY:Der Schamane und die Schlange
X-IMAGE:http://www.region-coburg.tv/images/medium/vhs-film-1276db0f.jpg
END:VEVENT
END:VCALENDAR
