BEGIN:VCALENDAR
METHOD:PUBLISH
PRODID:-//3789@www.region-coburg.tv//NONSGML iCalcreator 2.4.3//
VERSION:2.0
BEGIN:VEVENT
UID:3789-20161005201500-20161005000000@www.region-coburg.tv
DTSTAMP:20260420T101940Z
CONTACT:09561 / 239051
CREATED:20160802T203800Z
DESCRIPTION:Michael Edwards hat sich ein äußerst ehrgeiziges Ziel gesetzt
 : Er will - irgendwann und irgendwie - bei den Olympischen Spielen das Ver
 einigte Königreich vertreten. Seine Experimente in unterschiedlichsten Di
 sziplinen scheitern allerdings kläglich\, bis ihn zuletzt das Skispringen
  in den Bann schlägt - im milden Klima der britischen Inseln freilich ein
 e sehr exzentrische Sportwahl. Doch in Gestalt seines Trainers Bronson Pea
 ry findet der kühne Brite tatsächlich einen idealistischen Partner im Ri
 ngen um seine olympische Vision.VHS-Film der Woche | Deutschland\, Großbr
 itannien\, USA 2016 - Tickets: 09561 / 239051
DTEND:20161005T000000
DTSTART:20161005T201500
LAST-MODIFIED:20160802T203800Z
LOCATION:Coburg\, Kino Utopolis
SUMMARY:Eddie The Eagle – Alles ist möglich
X-IMAGE:http://www.region-coburg.tv/images/medium/vhs-film-1276db0f.jpg
END:VEVENT
END:VCALENDAR
