BEGIN:VCALENDAR
METHOD:PUBLISH
PRODID:-//3782@www.region-coburg.tv//NONSGML iCalcreator 2.4.3//
VERSION:2.0
BEGIN:VEVENT
UID:3782-20160816201500-20160816000000@www.region-coburg.tv
DTSTAMP:20260420T064240Z
CONTACT:09561 / 239051
CREATED:20160802T202000Z
DESCRIPTION:Das Drama kreist um die Vision eines experimentellen Lebensmode
 lls: Das dÃ¤nische Ehepaar Erik und Anna ruft in Kopenhagen eine Kommune a
 us\, die sich schnell mit gleichgesinnten Individualisten bevÃ¶lkert. ZunÃ
 ¤chst erfÃ¼llt sich die Sehnsucht der Kommunenbewohner nach einem originel
 len intensiveren Leben â€“ voll heiterer Feiern\, interessanter Menschen u
 nd unkonventioneller Gemeinschaft. Doch das Modell wird auf die Probe gest
 ellt\, als Erik der charismatischen Studentin Emma verfÃ¤llt\, die bald in
  die nichtsahnende WG einzieht â€¦VHS-Film der Woche\, DÃ¤nemark\, Niederl
 ande\, Schweden 2016 - Tickets: 09561 / 239051
DTEND:20160816T000000
DTSTART:20160816T201500
LAST-MODIFIED:20160802T202000Z
LOCATION:Coburg\, Kino Utopolis
SUMMARY:Die Kommune
X-IMAGE:http://www.region-coburg.tv/images/medium/vhs-film-1276db0f.jpg
END:VEVENT
END:VCALENDAR
