BEGIN:VCALENDAR
METHOD:PUBLISH
PRODID:-//3781@www.region-coburg.tv//NONSGML iCalcreator 2.4.3//
VERSION:2.0
BEGIN:VEVENT
UID:3781-20160809201500-20160809000000@www.region-coburg.tv
DTSTAMP:20260420T064224Z
CONTACT:09561 / 239051
CREATED:20160802T201900Z
DESCRIPTION:Kann allzu ungestüme Liebe dem Gelingen einer Beziehung auch s
 chaden? Dieser Frage muss sich Tony stellen\, die in einer Reha-Klinik geg
 en die Folgen eines Skiunfalls kämpft und währenddessen die letzten Jahr
 e ihres Lebens Revue passieren lässt: Besonders die rauschhafte aber letz
 tlich gescheiterte Ehe mit dem charismatischen und egozentrischen Georgio 
 bereitet ihr Kopfzerbrechen\; gleichzeitig steht die zweifelnde Frau vor e
 iner noch größeren Herausforderung – der Suche nach sich selbst.VHS-Fi
 lm der Woche\, Frankreich 2015 - Tickets: 09561 / 239051
DTEND:20160809T000000
DTSTART:20160809T201500
LAST-MODIFIED:20160802T201900Z
LOCATION:Coburg\, Kino Utopolis
SUMMARY:Mein Ein\, mein Alles
X-IMAGE:http://www.region-coburg.tv/images/medium/vhs-film-1276db0f.jpg
END:VEVENT
END:VCALENDAR
