BEGIN:VCALENDAR
METHOD:PUBLISH
PRODID:-//3780@www.region-coburg.tv//NONSGML iCalcreator 2.4.3//
VERSION:2.0
BEGIN:VEVENT
UID:3780-20160802201500-00000000000000@www.region-coburg.tv
DTSTAMP:20260420T064240Z
CONTACT:09561 / 239051
CREATED:20160802T201700Z
DESCRIPTION:Zwei völlig unterschiedliche Frauen stellen sich gemeinsam ihr
 en ganz persönlichen Dämonen\; aus diesem Grund-Motiv und der Reaktorkat
 astrophe des Jahres 2011 entwickelt Regisseurin Doris Dörrie ihr Film-Dra
 ma: Die junge Deutsche Marie möchte die Überlebenden von Fukushima unter
 stützen und bricht für eine Hilfsorganisation nach Japan auf. Dort lernt
  sie die eigenwillige Geisha Satomi kennen\, die um jeden Preis in ihr ver
 trautes Heim innerhalb der verseuchten Sperrzone zurückkehren möchte. Ü
 berraschend beschließt Marie\, der alten Dame Gesellschaft zu leisten…V
 HS-Film der Woche\, Deutschland 2016 - Tickets: 09561 / 239051
DTEND:20160802T211500
DTSTART:20160802T201500
LAST-MODIFIED:20160802T201700Z
LOCATION:Coburg\, Kino Utopolis
SUMMARY:Grüße aus Fukushima
X-IMAGE:http://www.region-coburg.tv/images/medium/vhs-film-1276db0f.jpg
END:VEVENT
END:VCALENDAR
