BEGIN:VCALENDAR
METHOD:PUBLISH
PRODID:-//3777@www.region-coburg.tv//NONSGML iCalcreator 2.4.3//
VERSION:2.0
BEGIN:VEVENT
UID:3777-20160817193000-20160817000000@www.region-coburg.tv
DTSTAMP:20260420T215526Z
CONTACT:09564 / 4489
CREATED:20160801T172300Z
DESCRIPTION:Coburger Sommeroperette: â€žDer fidele Bauerâ€œDie â€žCoburger 
 Sommeroperetteâ€œ prÃ¤sentiert sich vom 10. bis zum 21. August mit der Ope
 rette â€žDer fidele Bauerâ€œ. Komponiert hat sie Leo Fall\, neben Franz LÃ
 ©har ein Meister der Silbernen Operetten-Ã„ra. Die Geschichte des â€žZipfe
 lhauben-Bauersâ€œ ist eine Ã¶sterreichisch-frÃ¤nkische Coproduktion. In Sc
 hloss Zell an der Pram wurde sie im Juni bereits sechs Mal gespielt\, Clau
 s J. Frankl adaptiert die Inszenierung fÃ¼r die Heldritter FreilichtbÃ¼hne
 . Mit Solisten\, Chor\, Kinderchor und Tanzgruppe soll die beliebte Naturb
 Ã¼hne wieder voll zur Geltung kommt. Ãœbrigens ist im Wiener Magazin â€žFe
 stspieleâ€œ in der Rubrik Operette/Musical die â€žCoburger Sommeroperetteâ
 €œ das bestplatzierte Festival Deutschlands! - Tickets: 09564 / 4489
DTEND:20160817T000000
DTSTART:20160817T193000
LAST-MODIFIED:20160801T172300Z
LOCATION:WaldbÃ¼hne Heldritt
SUMMARY:Der fidele Bauer
X-IMAGE:http://www.region-coburg.tv/images/medium/bauer-vh-91c505ae.jpg
END:VEVENT
END:VCALENDAR
