BEGIN:VCALENDAR
METHOD:PUBLISH
PRODID:-//3752@www.region-coburg.tv//NONSGML iCalcreator 2.4.3//
VERSION:2.0
BEGIN:VEVENT
UID:3752-20160716000000-20160720000000@www.region-coburg.tv
DTSTAMP:20260420T064030Z
CONTACT:www.klanggrenzen.de
CREATED:20160714T194300Z
DESCRIPTION:Neues Festival: 'Klanggrenzen 2016“Mit neuen\, außergewöhnl
 ichen musikalischen Formaten generationenübergreifend das Publikum begeis
 tern – das wollen Martin Emmerich\, Konzertmeister des Landestheater-Orc
 hesters\, Chordirektor Lorenzo da Rio und Tenor David Zimmer. „Klanggren
 zen“ heißt das erstmals in Coburg stattfindende Kammermusikfestival\, d
 as Musik\, Film\, Literatur und Darstellende Kunst miteinander verbinden s
 oll. Unter dem Titel „Russische Seele: Theater und Film“ gestalten die
  Sopranistin Anna Gütter und das „Aramis-Trio“ einen Abend mit Musik 
 von Schostakowitsch und Rachmaninoff sowie Ausschnitten aus dem Film „De
 m kühlen Morgen entgegen“. Ein „Wandel-Konzert“ auf Schloss Callenb
 erg\, eine Lesung mit Musik in St. Augustin oder ein Crossover-Projekt mit
  dem Blechbläserinnen-Quintett Brassesoires sind weitere Highlights. - Ti
 ckets: www.klanggrenzen.de
DTEND;VALUE=DATE:20160721
DTSTART;VALUE=DATE:20160716
LAST-MODIFIED:20160714T194300Z
LOCATION:Diverse Veranstaltungsorte
SUMMARY:Festival 'Klanggrenzen'
X-IMAGE:http://www.region-coburg.tv/images/medium/klanggrenzen-vh-4a5f5be9.
 jpg
END:VEVENT
END:VCALENDAR
