BEGIN:VCALENDAR
METHOD:PUBLISH
PRODID:-//3748@www.region-coburg.tv//NONSGML iCalcreator 2.4.3//
VERSION:2.0
BEGIN:VEVENT
UID:3748-20160707180000-20160707000000@www.region-coburg.tv
DTSTAMP:20260420T164130Z
CONTACT:09561 / 898989
CREATED:20160630T190000Z
DESCRIPTION:Nachwuchs auf der Bühne: 'Festival für Schultheater“4. - 15
 . Juli 2016Kinder und Jugendliche haben viele Talente\, zum Beispiel schau
 spielerische Begabungen. Das beweist jedes Jahr das Coburger 'Festival fü
 r Schultheater'. Ganze zwei Wochen lang wird die Reithalle zum Podium für
  die jungen Akteure. Unterstützt durch professionelle Theatermacher sind 
 die Werke wieder sehr vielfältig. Neben Texten von Brecht und Shakespeare
 \, dem Theaterstück „Wer ist die Schönste im World-Wide-Web“ sind au
 ch Produktionen wie „Der Frosch mit der Maske“\, „Alice im Wunderlan
 d“ oder „Tanz der Vampire“ zu sehen. Ab Montag\, den 04. Juli heißt
  es „Bühne frei“ für die Nachwuchs-Schauspieler der Coburger Schulen
 .Programminfo - Tickets: 09561 / 898989
DTEND:20160707T000000
DTSTART:20160707T180000
LAST-MODIFIED:20160630T190000Z
LOCATION:Theater in der Reithalle
SUMMARY:Festival für Schultheater
X-IMAGE:http://www.region-coburg.tv/images/medium/ltc-jung-021296a5.jpg
END:VEVENT
END:VCALENDAR
