BEGIN:VCALENDAR
METHOD:PUBLISH
PRODID:-//3742@www.region-coburg.tv//NONSGML iCalcreator 2.4.3//
VERSION:2.0
BEGIN:VEVENT
UID:3742-20160622190000-20160622000000@www.region-coburg.tv
DTSTAMP:20260420T044314Z
CONTACT: 09561 / 891420
CREATED:20160613T203600Z
DESCRIPTION:Texte & Songs: 'Wir sind so frei“Vor 70 Jahren fanden in Cobu
 rg die ersten freien Wahlen zum Stadtrat statt. Eine Zeit\, die von Hunger
 \, Not und Zerstörung und dem Versuch des demokratischen Aufbruchs bestim
 mt war. Der Schauspieler Stephan Mertl und die Akkordeonistin Dagmar Weiss
  erinnern am Mittwoch\, den 22. Juni in der Coburger Stadtbücherei an die
  frühe Nachkriegszeit. Der Abend „Wir sind so frei“ nach einem Zitat 
 von Erich Kästner beinhaltet literarischen Texte sowie Schlager und Kabar
 ettsongs. Die Moderation übernehmen Edmund und Brigitte Maisch. - Tickets
 :  09561 / 891420
DTEND:20160622T000000
DTSTART:20160622T190000
LAST-MODIFIED:20160613T203600Z
LOCATION:Stadtbücherei Coburg
SUMMARY:Wir sind so frei
X-IMAGE:http://www.region-coburg.tv/images/medium/coburg-frei-vh-db0350ef.j
 pg
END:VEVENT
END:VCALENDAR
