BEGIN:VCALENDAR
METHOD:PUBLISH
PRODID:-//3739@www.region-coburg.tv//NONSGML iCalcreator 2.4.3//
VERSION:2.0
BEGIN:VEVENT
UID:3739-20160612160000-20160612000000@www.region-coburg.tv
DTSTAMP:20260420T101928Z
CONTACT:09564 / 800441
CREATED:20160607T210300Z
DESCRIPTION:Harmonikas in Heldritt: 'Musik für alle Fälle“Der jüngste 
 ist acht\, die Älteste 73. Die „Harmonikas“ aus Sachsenbrunn sind ein
  “Drei-Generationen-Orchester”. 35 Akkordeonisten präsentieren am Son
 ntag\, den 12. Juni auf der Heldritter Waldbühne “Musik für alle Fäll
 e” - ein buntes Programm aus Film-\, Unterhaltungs- und Stimmungsmusik s
 owie Musicalauszügen. - Tickets: 09564 / 800441
DTEND:20160612T000000
DTSTART:20160612T160000
LAST-MODIFIED:20160607T210300Z
LOCATION:Waldbühne Heldritt
SUMMARY:Die Harmonikas
X-IMAGE:http://www.region-coburg.tv/images/medium/harmonikas-81bfb02d.jpg
END:VEVENT
END:VCALENDAR
