BEGIN:VCALENDAR
METHOD:PUBLISH
PRODID:-//3736@www.region-coburg.tv//NONSGML iCalcreator 2.4.3//
VERSION:2.0
BEGIN:VEVENT
UID:3736-20160611200000-20160611000000@www.region-coburg.tv
DTSTAMP:20260420T101819Z
CONTACT:09561 / 898989
CREATED:20160607T204800Z
DESCRIPTION:Ungewöhnlicher Chansonabend 'Lieder aus der Platte“Dritter S
 tock einer tristen Mietskaserne. Ein Mann auf der Suche nach Romantik. Ein
 e Frau auf der Suche nach dem Einen. Ein Klavierspieler\, der das Suchen s
 chon lange aufgegeben hat. Die Schauspieler Anne Rieckhof und Tom Wild sow
 ie der Pianist Dominik Tremel laden am Samstag\, den 11. Juni zu „Lieder
 n aus der Platte“ in die Reithalle ein – ein Abend mit Chansons nicht 
 nur von Claire Waldorff\, Edith Piaf und Georg Kreisler. - Tickets: 09561 
 / 898989
DTEND:20160611T000000
DTSTART:20160611T200000
LAST-MODIFIED:20160607T204800Z
LOCATION:Theater in der Reithalle
SUMMARY:Lieder aus der Platte
X-IMAGE:http://www.region-coburg.tv/images/medium/platte-vh-ad1bf78a.jpg
END:VEVENT
END:VCALENDAR
