BEGIN:VCALENDAR
METHOD:PUBLISH
PRODID:-//3735@www.region-coburg.tv//NONSGML iCalcreator 2.4.3//
VERSION:2.0
BEGIN:VEVENT
UID:3735-20160609200000-20160609000000@www.region-coburg.tv
DTSTAMP:20260420T083140Z
CONTACT:09563 / 1606
CREATED:20160605T185200Z
DESCRIPTION:'Nachtheller Tag\, du bist mein Traumgesicht“Das „Europäis
 che Museum für Modernes Glas“ in Rödental wird zur Bühne für einen a
 ußergewöhnlichen Solo-Shakespeare-Abend. Unter dem Motto „Nachtheller 
 Tag\, du bist mein Traumgesicht“ verbindet die Schauspielerin Cora Chilc
 ott eine Auswahl der Sonette mit Textauszügen aus „Romeo und Julia“\,
  „Hamlet“\, „Othello“ und Songs von John Dowland. Am Donnerstag\, 
 den 09. Juni stellt sie die Schönheit von Shakeseares Lyrik und die Zeitl
 osigkeit ihrer Aussage in den Mittelpunkt. - Tickets: 09563 / 1606
DTEND:20160609T000000
DTSTART:20160609T200000
LAST-MODIFIED:20160605T185200Z
LOCATION:Europäisches Museum für Modernes Glas
SUMMARY:Cora Chilcott
X-IMAGE:http://www.region-coburg.tv/images/medium/chilcott-vh-c74fd1ff.jpg
END:VEVENT
END:VCALENDAR
