BEGIN:VCALENDAR
METHOD:PUBLISH
PRODID:-//3734@www.region-coburg.tv//NONSGML iCalcreator 2.4.3//
VERSION:2.0
BEGIN:VEVENT
UID:3734-20160605150000-20160605000000@www.region-coburg.tv
DTSTAMP:20260420T025806Z
CONTACT:09568 / 5227
CREATED:20160523T171000Z
DESCRIPTION:Stellen Sie sich vor\, Sie sitzen in einem Wiener Kaffeehaus. I
 m Hintergrund erklingt Musik. Doch so weit brauchen Sie für eine unterhal
 tsame „Kaffeehausmusik“ nicht zu fahren. Diese erklingt bei Kaffee und
  Kuchen am Sonntag\, den 05. Juni im Meilschnitzer Gasthof „Gunsenheimer
 “. Das Orchester des „Musizierkreises gehobener Unterhaltungsmusik“ 
 spielt unter der Leitung von Norbert Luche ausgewählte Salonmusik. Kleine
  Anekdoten und Wissenswertes steuert Christine Luche bei. - Tickets: 09568
  / 5227
DTEND:20160605T000000
DTSTART:20160605T150000
LAST-MODIFIED:20160523T171000Z
LOCATION:Landgasthof Gunsenheimer
SUMMARY:Kaffeehausmusik
X-IMAGE:http://www.region-coburg.tv/images/medium/kaffeehausmusik-aec0740d.
 jpg
END:VEVENT
END:VCALENDAR
