BEGIN:VCALENDAR
METHOD:PUBLISH
PRODID:-//3733@www.region-coburg.tv//NONSGML iCalcreator 2.4.3//
VERSION:2.0
BEGIN:VEVENT
UID:3733-20160717150000-20160717000000@www.region-coburg.tv
DTSTAMP:20260420T183449Z
CONTACT:09564 / 800441
CREATED:20160523T170500Z
DESCRIPTION:Die Heldritter Waldbühne öffnet wieder ihre Tore! Mit jeder M
 enge Verwicklungen\, nicht nur in Liebesdingen\, wartet ab Samstag\, den 0
 4. Juni die Komödie „Katzenjammer“ auf. Ein großes landwirtschaftlic
 hes Anwesen mit jahrhundertealter Tradition steht kurz vor dem finanzielle
 n Ruin und muss verkauft werden. Lachmuskel strapazierender Katzenjammer i
 st dabei vorprogrammiert! - Tickets: 09564 / 800441
DTEND:20160717T000000
DTSTART:20160717T150000
LAST-MODIFIED:20160523T170500Z
LOCATION:Waldbühne Heldritt
SUMMARY:Katzenjammer
X-IMAGE:http://www.region-coburg.tv/images/medium/katzenjammer-vh-ffbd8b1e.
 jpg
END:VEVENT
END:VCALENDAR
