BEGIN:VCALENDAR
METHOD:PUBLISH
PRODID:-//3732@www.region-coburg.tv//NONSGML iCalcreator 2.4.3//
VERSION:2.0
BEGIN:VEVENT
UID:3732-20160529150000-20160529000000@www.region-coburg.tv
DTSTAMP:20260420T063946Z
CONTACT:09564 / 800441
CREATED:20160523T165800Z
DESCRIPTION:Die Heldritter Waldbühne öffnet wieder ihre Tore! Auf die Kle
 inen wartet ein großes Abenteuer tief unten im Meer. Mit viel Spannung\, 
 Witz und Musik eröffnet Hans Christian Andersens Märchenstück „Die kl
 eine Meerjungfrau“ am Sonntag\, den 29. Mai die Waldbühnen-Spielzeit. -
  Tickets: 09564 / 800441
DTEND:20160529T000000
DTSTART:20160529T150000
LAST-MODIFIED:20160523T165800Z
LOCATION:Waldbühne Heldritt
SUMMARY:Die kleine Meerjungfrau
X-IMAGE:http://www.region-coburg.tv/images/medium/meerjungfrau-b57ecf17.jpg
END:VEVENT
END:VCALENDAR
